BEGIN:VCALENDAR
VERSION:2.0
PRODID:-//Gilbert Uribe Music - ECPv6.15.20//NONSGML v1.0//EN
CALSCALE:GREGORIAN
METHOD:PUBLISH
X-WR-CALNAME:Gilbert Uribe Music
X-ORIGINAL-URL:https://gilberturibemusic.com
X-WR-CALDESC:Events for Gilbert Uribe Music
REFRESH-INTERVAL;VALUE=DURATION:PT1H
X-Robots-Tag:noindex
X-PUBLISHED-TTL:PT1H
BEGIN:VTIMEZONE
TZID:America/Denver
BEGIN:DAYLIGHT
TZOFFSETFROM:-0700
TZOFFSETTO:-0600
TZNAME:MDT
DTSTART:20250309T090000
END:DAYLIGHT
BEGIN:STANDARD
TZOFFSETFROM:-0600
TZOFFSETTO:-0700
TZNAME:MST
DTSTART:20251102T080000
END:STANDARD
BEGIN:DAYLIGHT
TZOFFSETFROM:-0700
TZOFFSETTO:-0600
TZNAME:MDT
DTSTART:20260308T090000
END:DAYLIGHT
BEGIN:STANDARD
TZOFFSETFROM:-0600
TZOFFSETTO:-0700
TZNAME:MST
DTSTART:20261101T080000
END:STANDARD
BEGIN:DAYLIGHT
TZOFFSETFROM:-0700
TZOFFSETTO:-0600
TZNAME:MDT
DTSTART:20270314T090000
END:DAYLIGHT
BEGIN:STANDARD
TZOFFSETFROM:-0600
TZOFFSETTO:-0700
TZNAME:MST
DTSTART:20271107T080000
END:STANDARD
END:VTIMEZONE
BEGIN:VEVENT
DTSTART;TZID=America/Denver:20260509T160000
DTEND;TZID=America/Denver:20260509T180000
DTSTAMP:20260419T122536
CREATED:20260411T054906Z
LAST-MODIFIED:20260411T054906Z
UID:3227-1778342400-1778349600@gilberturibemusic.com
SUMMARY:Above Snakes - SLOW Market - Old Town ABQ - Albuquerque\, NM
DESCRIPTION:
URL:https://gilberturibemusic.com/event/above-snakes-slow-market-old-town-abq-albuquerque-nm/
LOCATION:Above Snakes\, 414 Romero St NW\, Albuquerque\, NM\, 87104\, United States
CATEGORIES:Solo
END:VEVENT
END:VCALENDAR