BEGIN:VCALENDAR
VERSION:2.0
PRODID:-//Gilbert Uribe Music - ECPv6.15.20//NONSGML v1.0//EN
CALSCALE:GREGORIAN
METHOD:PUBLISH
X-WR-CALNAME:Gilbert Uribe Music
X-ORIGINAL-URL:https://gilberturibemusic.com
X-WR-CALDESC:Events for Gilbert Uribe Music
REFRESH-INTERVAL;VALUE=DURATION:PT1H
X-Robots-Tag:noindex
X-PUBLISHED-TTL:PT1H
BEGIN:VTIMEZONE
TZID:America/Denver
BEGIN:DAYLIGHT
TZOFFSETFROM:-0700
TZOFFSETTO:-0600
TZNAME:MDT
DTSTART:20250309T090000
END:DAYLIGHT
BEGIN:STANDARD
TZOFFSETFROM:-0600
TZOFFSETTO:-0700
TZNAME:MST
DTSTART:20251102T080000
END:STANDARD
BEGIN:DAYLIGHT
TZOFFSETFROM:-0700
TZOFFSETTO:-0600
TZNAME:MDT
DTSTART:20260308T090000
END:DAYLIGHT
BEGIN:STANDARD
TZOFFSETFROM:-0600
TZOFFSETTO:-0700
TZNAME:MST
DTSTART:20261101T080000
END:STANDARD
BEGIN:DAYLIGHT
TZOFFSETFROM:-0700
TZOFFSETTO:-0600
TZNAME:MDT
DTSTART:20270314T090000
END:DAYLIGHT
BEGIN:STANDARD
TZOFFSETFROM:-0600
TZOFFSETTO:-0700
TZNAME:MST
DTSTART:20271107T080000
END:STANDARD
END:VTIMEZONE
BEGIN:VEVENT
DTSTART;TZID=America/Denver:20260424T200000
DTEND;TZID=America/Denver:20260424T230000
DTSTAMP:20260419T155832
CREATED:20260317T203027Z
LAST-MODIFIED:20260317T203027Z
UID:3195-1777060800-1777071600@gilberturibemusic.com
SUMMARY:Nosotros with DJ Pancho Quinones - Tumbleroot Brewery and Distillery - Santa Fe\, NM
DESCRIPTION:
URL:https://gilberturibemusic.com/event/nosotros-with-dj-pancho-quinones-tumbleroot-brewery-and-distillery-santa-fe-nm/
LOCATION:Tumbleroot Brewery and Distillery\, 2791 Agua Fria St\, Santa Fe\, NM\, 87507\, United States
CATEGORIES:Nosotros
END:VEVENT
BEGIN:VEVENT
DTSTART;TZID=America/Denver:20260425T180000
DTEND;TZID=America/Denver:20260425T200000
DTSTAMP:20260419T155832
CREATED:20260411T051708Z
LAST-MODIFIED:20260411T051708Z
UID:3220-1777140000-1777147200@gilberturibemusic.com
SUMMARY:Nosotros - Acoustic Trio - Bishops Lodge - Sky Fire Lounge - Santa Fe\, NM
DESCRIPTION:
URL:https://gilberturibemusic.com/event/nosotros-acoustic-trio-bishops-lodge-sky-fire-lounge-santa-fe-nm/
LOCATION:Bishops Lodge – Sky Fire Lounge\, 1297 Bishops Lodge Rd\, Santa Fe\, NM\, 87506\, United States
CATEGORIES:Nosotros
END:VEVENT
BEGIN:VEVENT
DTSTART;TZID=America/Denver:20260508T180000
DTEND;TZID=America/Denver:20260508T200000
DTSTAMP:20260419T155832
CREATED:20260415T173100Z
LAST-MODIFIED:20260415T173100Z
UID:3251-1778263200-1778270400@gilberturibemusic.com
SUMMARY:Nosotros - Acoustic Trio - Sky Fire Lounge - Bishops Lodge - Santa Fe\, NM
DESCRIPTION:
URL:https://gilberturibemusic.com/event/nosotros-acoustic-trio-sky-fire-lounge-bishops-lodge-santa-fe-nm/
LOCATION:Bishops Lodge – Sky Fire Lounge\, 1297 Bishops Lodge Rd\, Santa Fe\, NM\, 87506\, United States
CATEGORIES:Nosotros
END:VEVENT
BEGIN:VEVENT
DTSTART;TZID=America/Denver:20260509T200000
DTEND;TZID=America/Denver:20260509T233000
DTSTAMP:20260419T155832
CREATED:20260411T053916Z
LAST-MODIFIED:20260411T053916Z
UID:3224-1778356800-1778369400@gilberturibemusic.com
SUMMARY:El Show - Nosotros with Christina Gomez y Los Cuates - The Marigold Room - Hotel Glorieta - Santa Fe\, NM
DESCRIPTION:
URL:https://gilberturibemusic.com/event/el-show-nosotros-with-christina-gomez-y-los-cuates-the-marigold-room-hotel-glorieta-santa-fe-nm/
LOCATION:The Marigold Room – Hotel Glorieta Santa Fe\, 750 N St Francis Dr\, Santa Fe\, NM\, 87501\, United States
CATEGORIES:Nosotros
END:VEVENT
BEGIN:VEVENT
DTSTART;TZID=America/Denver:20260516T140000
DTEND;TZID=America/Denver:20260516T153000
DTSTAMP:20260419T155832
CREATED:20260411T060940Z
LAST-MODIFIED:20260411T060940Z
UID:3233-1778940000-1778945400@gilberturibemusic.com
SUMMARY:Nosotros - RGS Benefit Concert - Nuckolls Brewing Co - Santa Fe\, NM
DESCRIPTION:
URL:https://gilberturibemusic.com/event/nosotros-rgs-benefit-concert-nuckolls-brewing-co-santa-fe-nm/
LOCATION:Nuckolls Brewing Co.\, 1611 Alcaldesa St\, Santa Fe\, 87501\, United States
CATEGORIES:Nosotros
END:VEVENT
BEGIN:VEVENT
DTSTART;TZID=America/Denver:20260523T190000
DTEND;TZID=America/Denver:20260523T220000
DTSTAMP:20260419T155832
CREATED:20260411T061545Z
LAST-MODIFIED:20260411T061545Z
UID:3235-1779562800-1779573600@gilberturibemusic.com
SUMMARY:Nosotros - Sextet - Unit B - Santa Fe\, NM
DESCRIPTION:
URL:https://gilberturibemusic.com/event/nosotros-sextet-unit-b-santa-fe-nm/
LOCATION:Unit B\, 821 W San Mateo Rd\, Santa Fe\, NM\, 87505\, United States
CATEGORIES:Nosotros
END:VEVENT
BEGIN:VEVENT
DTSTART;TZID=America/Denver:20260530T180000
DTEND;TZID=America/Denver:20260530T200000
DTSTAMP:20260419T155832
CREATED:20260411T062424Z
LAST-MODIFIED:20260411T062424Z
UID:3239-1780164000-1780171200@gilberturibemusic.com
SUMMARY:Nosotros - Acoustic Trio - Bishops Lodge - Sky Fire Lounge - Santa Fe\, NM
DESCRIPTION:
URL:https://gilberturibemusic.com/event/nosotros-acoustic-trio-bishops-lodge-sky-fire-lounge-santa-fe-nm-3/
LOCATION:Bishops Lodge – Sky Fire Lounge\, 1297 Bishops Lodge Rd\, Santa Fe\, NM\, 87506\, United States
CATEGORIES:Nosotros
END:VEVENT
END:VCALENDAR